BEGIN:VCALENDAR
VERSION:2.0
PRODID:-//Driving Clean Assistance Program - ECPv6.15.20//NONSGML v1.0//EN
CALSCALE:GREGORIAN
METHOD:PUBLISH
X-ORIGINAL-URL:https://drivingcleanca.org
X-WR-CALDESC:Events for Driving Clean Assistance Program
REFRESH-INTERVAL;VALUE=DURATION:PT1H
X-Robots-Tag:noindex
X-PUBLISHED-TTL:PT1H
BEGIN:VTIMEZONE
TZID:UTC
BEGIN:STANDARD
TZOFFSETFROM:+0000
TZOFFSETTO:+0000
TZNAME:UTC
DTSTART:20240101T000000
END:STANDARD
END:VTIMEZONE
BEGIN:VEVENT
DTSTART;TZID=UTC:20251002T080000
DTEND;TZID=UTC:20251002T170000
DTSTAMP:20260423T144813
CREATED:20250922T165307Z
LAST-MODIFIED:20260219T234452Z
UID:1649-1759392000-1759424400@drivingcleanca.org
SUMMARY:Ventura County EV Showcase
DESCRIPTION:This year\, we will be returning with another outstanding event to the Ventura Harbor Village. On the main lawn\, you will find a fantastic showcase of electric vehicles. There will be Cars\, Vans\, SUVs\, Trucks\, Bikes\, and other electric equipment\, as well as vintage EV conversions.  To demonstrate the community action of Clean Air Day\, an electric school bus from the Ventura Unified School District will be on display.  The cars are displayed by their owners\, who have years of EV ownership and have driven many petroleum-free miles. They are all enthusiastic and willing to discuss their experiences and answer your questions about owning and living with an EV. \nIf you own an EV\, register with the RSVP button and bring your vehicle to the showcase\, meet and mingle with members of our local EV community. Enjoy the opportunity to visit the Ventura Harbor Village for some excellent dining and shopping options. You might even stroll down to the Visitor Center of Channel Islands National Park to learn about the amazing resource just off our coast. (Sorry\, no chargers are available out there.) \nThe port district has implemented paid parking on the weekends for the main lots. If you arrive early\, you may find a free spot along Spinnaker Drive. Otherwise\, the paid parking is from 10 am to 8 pm. Information available at https://venturaharbor.com/parking/. Of course\, if your electric vehicle is part of our showcase\, you will receive free\, premium parking on the lawn. (Sorry\, no valet service) \nThis will be the 13th National Drive Electric Week Showcase in Ventura County. Last year’s event displayed 80 vehicles representing 37 models\, including an electric school bus. The combined EV mileage exceeded 3 million miles. This year\, we anticipate having a greater diversity of vehicles\, with more owners and experiences to share. \nTo further your knowledge about electric vehicles\, charging options\, rebates\, and electrical options\, booths from community organizations and service providers will be available to answer your questions. \nThis event is sponsored by the Santa Barbara-Ventura Chapter of the Sierra Club\, the Clean Power Alliance\, and California Clean Air Day. On the ground\, the organization is provided by the EV Advocates of Ventura County. \nVentura Harbor Village. https://www.venturaharborvillage.com \nChannel Islands National Park.  https://www.nps.gov/chis \nClean Power Alliance.  https://cleanpoweralliance.org \nCalifornia Clean Air Day. https://www.ccair.org \nSanta Barbara – Ventura.  https://www.sierraclub.org/santa-barbara-ventura
URL:https://drivingcleanca.org/old-event/ventura-county-ev-showcase/
LOCATION:Ventura Harbor\, 1591 Spinnaker Drive\, Ventura\, CA\, 93001
CATEGORIES:past-events,Ride and Drive
ATTACH;FMTTYPE=image/png:https://drivingcleanca.org/wp-content/uploads/2025/10/Ventura-County-EV-Showcase.png
END:VEVENT
BEGIN:VEVENT
DTSTART;TZID=UTC:20251004T100000
DTEND;TZID=UTC:20251004T140000
DTSTAMP:20260423T144813
CREATED:20251002T162823Z
LAST-MODIFIED:20260219T233142Z
UID:1633-1759572000-1759586400@drivingcleanca.org
SUMMARY:North Coast Drive Electric Month R&D
DESCRIPTION:Test drive clean air vehicles\, get hands-on help with your Driving Clean Assistance Program application\, and enjoy family-friendly activities\, live music\, great food\, and connect with local resources\, community organizations\, and agencies. \n 
URL:https://drivingcleanca.org/old-event/north-coast-drive-electric-month-rd/
LOCATION:Redwood Acres Fairground – Parking Lot A\, 3750 Harris St\, Eureka\, CA\, United States
CATEGORIES:past-events,Ride and Drive
ATTACH;FMTTYPE=image/png:https://drivingcleanca.org/wp-content/uploads/2025/10/North-Coast-Drive-Electric-Month-RD.png
END:VEVENT
BEGIN:VEVENT
DTSTART;TZID=UTC:20251030T160000
DTEND;TZID=UTC:20251030T200000
DTSTAMP:20260423T144813
CREATED:20251002T164814Z
LAST-MODIFIED:20260219T233122Z
UID:1646-1761840000-1761854400@drivingcleanca.org
SUMMARY:A Halloween Clean Air Vehicle Ride & Drive Event
DESCRIPTION:Join us for a fun Ride & Drive event that embraces the spirit of Halloween co-hosted by Finesse-A-Car. \nIt’s a free family event that is open to the public\, wear your costume\, and trick or treat\nwith us! \n \n  \n  \n  \n 
URL:https://drivingcleanca.org/old-event/a-halloween-clean-air-vehicle-ride-drive-event/
LOCATION:Finesse A Car\, 1346 S. Atlantic Blvd.\, Los Angeles\, CA\, 90022
CATEGORIES:past-events
ATTACH;FMTTYPE=image/png:https://drivingcleanca.org/wp-content/uploads/2025/10/A-Halloween-Clean-Air-Vehicle-Ride-Drive-Event.png
END:VEVENT
END:VCALENDAR