BEGIN:VCALENDAR
VERSION:2.0
PRODID:-//Driving Clean Assistance Program - ECPv6.15.20//NONSGML v1.0//EN
CALSCALE:GREGORIAN
METHOD:PUBLISH
X-WR-CALNAME:Driving Clean Assistance Program
X-ORIGINAL-URL:https://drivingcleanca.org
X-WR-CALDESC:Events for Driving Clean Assistance Program
REFRESH-INTERVAL;VALUE=DURATION:PT1H
X-Robots-Tag:noindex
X-PUBLISHED-TTL:PT1H
BEGIN:VTIMEZONE
TZID:UTC
BEGIN:STANDARD
TZOFFSETFROM:+0000
TZOFFSETTO:+0000
TZNAME:UTC
DTSTART:20250101T000000
END:STANDARD
END:VTIMEZONE
BEGIN:VEVENT
DTSTART;TZID=UTC:20260418T110000
DTEND;TZID=UTC:20260418T150000
DTSTAMP:20260419T130051
CREATED:20260218T192907Z
LAST-MODIFIED:20260417T162452Z
UID:1962-1776510000-1776524400@drivingcleanca.org
SUMMARY:South Bay Earth Day 2026
DESCRIPTION:Earth Month Community Events with MAAC  \nCelebrate Earth Month with MAAC and DCAP at a series of community events across San Diego. Stop by our table to learn about clean air vehicle incentives\, check your eligibility\, and get guidance on how to apply.  \n  \nDate: Saturday\, April 18  \nTime: 11:00am-3:00pm  \nLocation: Chula Vista Bayfront Park—980 Marina Way\, Chula Vista\, CA 91911 
URL:https://drivingcleanca.org/old-event/south-bay-earth-day-2026/
LOCATION:Chula Vista Bayfront Park\, 980 Marina Way\, Chula Vista\, CA\, 91911 
CATEGORIES:Community Partner Events,Upcoming
ATTACH;FMTTYPE=image/jpeg:https://drivingcleanca.org/wp-content/uploads/2026/03/South-Bay-Earth-Day-2026.jpg
END:VEVENT
END:VCALENDAR