BEGIN:VCALENDAR
VERSION:2.0
PRODID:-//Driving Clean Assistance Program - ECPv6.15.20//NONSGML v1.0//EN
CALSCALE:GREGORIAN
METHOD:PUBLISH
X-ORIGINAL-URL:https://drivingcleanca.org
X-WR-CALDESC:Events for Driving Clean Assistance Program
REFRESH-INTERVAL;VALUE=DURATION:PT1H
X-Robots-Tag:noindex
X-PUBLISHED-TTL:PT1H
BEGIN:VTIMEZONE
TZID:UTC
BEGIN:STANDARD
TZOFFSETFROM:+0000
TZOFFSETTO:+0000
TZNAME:UTC
DTSTART:20250101T000000
END:STANDARD
END:VTIMEZONE
BEGIN:VEVENT
DTSTART;TZID=UTC:20260424T100000
DTEND;TZID=UTC:20260424T140000
DTSTAMP:20260419T130104
CREATED:20260324T200941Z
LAST-MODIFIED:20260417T161728Z
UID:2034-1777024800-1777039200@drivingcleanca.org
SUMMARY:FCCC Clean Air Vehicle Ride & Drive Earth Day - Mt. San Antonio College
DESCRIPTION:Join our partner the Foundation for California Community Colleges (FCCC) to celebrate Earth Day with two DCAP Clean Air Vehicle Ride & Drive events. \nAttendees will have the opportunity to explore clean transportation options\, test-drive electric vehicles\, and learn more about programs that make driving electric more accessible. \nStay tuned for more details. 🌎⚡🚗 \n📍Mt. San Antonio College\n1100 N. Grand Ave.\, Walnut\, CA 91789\n📅 Friday\, April 24\n🕙 10 AM to 2 PM \n 
URL:https://drivingcleanca.org/old-event/clean-air-vehicle-ride-drive-at-earth-day-events/
LOCATION:Mt. San Antonio College\, 1100 N. Grand Ave.\,\, Walnut\, CA\, 91789\, United States
CATEGORIES:Clean Air Vehicle Ride & Drive Events,Upcoming
ATTACH;FMTTYPE=image/jpeg:https://drivingcleanca.org/wp-content/uploads/2026/04/Earth-Day-Events.jpg
END:VEVENT
END:VCALENDAR