BEGIN:VCALENDAR
VERSION:2.0
PRODID:-//Driving Clean Assistance Program - ECPv6.15.20//NONSGML v1.0//EN
CALSCALE:GREGORIAN
METHOD:PUBLISH
X-WR-CALNAME:Driving Clean Assistance Program
X-ORIGINAL-URL:https://drivingcleanca.org
X-WR-CALDESC:Events for Driving Clean Assistance Program
REFRESH-INTERVAL;VALUE=DURATION:PT1H
X-Robots-Tag:noindex
X-PUBLISHED-TTL:PT1H
BEGIN:VTIMEZONE
TZID:UTC
BEGIN:STANDARD
TZOFFSETFROM:+0000
TZOFFSETTO:+0000
TZNAME:UTC
DTSTART:20250101T000000
END:STANDARD
END:VTIMEZONE
BEGIN:VEVENT
DTSTART;TZID=UTC:20260425T110000
DTEND;TZID=UTC:20260425T170000
DTSTAMP:20260419T142240
CREATED:20260325T000846Z
LAST-MODIFIED:20260417T161814Z
UID:1963-1777114800-1777136400@drivingcleanca.org
SUMMARY:San Diego Earth Fest 2026
DESCRIPTION:Earth Month Community Events with MAAC  \nCelebrate Earth Month with MAAC and DCAP at a series of community events across San Diego. Stop by our table to learn about clean air vehicle incentives\, check your eligibility\, and get guidance on how to apply.  \nDate: Saturday\, April 25  \nTime: 11:00am-5:00pm  \nLocation: Balboa Park—President’s Lawn\, Park Blvd\, San Diego  \nSan Diego EarthFest is a FREE Earth Day celebration presented by Viridian Productions\, featuring over 100 sustainable food\, craft and service vendors as well as environmental and conservation groups. Enjoy a full day of entertainment with music\, speakers and panel discussions plus yoga and wellness classes and activities for kids. \nSince the first Earth Day observation in 1970\, more than 1 billion people now participate in Earth Day events each year\, making it the largest civic observance in the world.\nLearn more about the history of Earth Day \nThis event is held in Balboa Park on the expansive lawn located at Park Boulevard and Presidents Way. \nSan Diego EarthFest is family-friendly and dog-friendly with free parking available. This is a zero-waste event. A portion of profits will be donated to local non-profit groups.This is a rain or shine event.
URL:https://drivingcleanca.org/old-event/san-diego-earth-fest-2026/
LOCATION:Balboa Park—President’s Lawn\, Park Blvd\, San Diego\, Park Blvd\, San Diego\, CA\, 92101
CATEGORIES:Upcoming
ATTACH;FMTTYPE=image/jpeg:https://drivingcleanca.org/wp-content/uploads/2026/03/SB-earthday-fest.jpg
END:VEVENT
END:VCALENDAR