BEGIN:VCALENDAR
VERSION:2.0
PRODID:-//Driving Clean Assistance Program - ECPv6.15.20//NONSGML v1.0//EN
CALSCALE:GREGORIAN
METHOD:PUBLISH
X-ORIGINAL-URL:https://drivingcleanca.org
X-WR-CALDESC:Events for Driving Clean Assistance Program
REFRESH-INTERVAL;VALUE=DURATION:PT1H
X-Robots-Tag:noindex
X-PUBLISHED-TTL:PT1H
BEGIN:VTIMEZONE
TZID:UTC
BEGIN:STANDARD
TZOFFSETFROM:+0000
TZOFFSETTO:+0000
TZNAME:UTC
DTSTART:20250101T000000
END:STANDARD
END:VTIMEZONE
BEGIN:VEVENT
DTSTART;TZID=UTC:20260419T120000
DTEND;TZID=UTC:20260419T170000
DTSTAMP:20260419T125711
CREATED:20260319T001234Z
LAST-MODIFIED:20260417T161926Z
UID:1958-1776600000-1776618000@drivingcleanca.org
SUMMARY:NHM Earth Day Festival – DCAP Tabling
DESCRIPTION:Join the Driving Clean Assistance Program (DCAP) at the Natural History Museum of Los Angeles County for the NHM Earth Day Festival at Exposition Park on Sunday\, April 19\, from 12 p.m. to 5 p.m. \nDCAP will be on-site\, sharing information about clean air vehicle incentives and providing guidance on how to apply. Stop by our table to learn how you may qualify and get your questions answered. \nThis family-friendly event features resources for healthy living and environmental justice\, along with live musical performances\, hands-on activities\, and special behind-the-scenes experiences led by NHM scientists. \nLocation:\nNatural History Museum of Los Angeles County \nAdmission is free for museum members and included with paid general admission. \nFor more details\, visit the NHM Earth Day Festival website or the Exposition Park events calendar. \nhttps://nhm.org/earthday
URL:https://drivingcleanca.org/old-event/nhm-earth-day-festival-dcap-tabling/
LOCATION:Natural History Museum of Los Angeles County\, 900 Exposition Blvd\, Los Angeles\, CA\, 90007
CATEGORIES:Community Partner Events,Upcoming
ATTACH;FMTTYPE=image/png:https://drivingcleanca.org/wp-content/uploads/2025/05/3.png
END:VEVENT
END:VCALENDAR